BEGIN:VCALENDAR
VERSION:2.0
PRODID:-//Squarespace Inc/Squarespace 6//v6//EN
BEGIN:VEVENT
UID:58704de603596e871dd772e0@squarespace.com
DTSTAMP:20170107T021151Z
DTSTART:20170228T201500Z
DTEND:20170228T210000Z
SUMMARY:Just Sweat
END:VEVENT
END:VCALENDAR
