BEGIN:VCALENDAR
VERSION:2.0
PRODID:-//Squarespace Inc/Squarespace 6//v6//EN
BEGIN:VEVENT
UID:58648878414fb506846ecabb@squarespace.com
DTSTAMP:20170108T015235Z
DTSTART:20170208T033000Z
DTEND:20170208T041500Z
SUMMARY:Teen Fit
END:VEVENT
END:VCALENDAR
