BEGIN:VCALENDAR
VERSION:2.0
PRODID:-//Squarespace Inc/Squarespace 6//v6//EN
BEGIN:VEVENT
UID:586488fe9f74562190fbf6ad@squarespace.com
DTSTAMP:20170108T015416Z
DTSTART:20170301T033000Z
DTEND:20170301T041500Z
SUMMARY:Teen Fit
END:VEVENT
END:VCALENDAR
