BEGIN:VCALENDAR
VERSION:2.0
PRODID:-//Squarespace Inc/Squarespace 6//v6//EN
BEGIN:VEVENT
UID:586455412994caa8711f98b8@squarespace.com
DTSTAMP:20161229T001417Z
DTSTART:20170226T201500Z
DTEND:20170226T210000Z
SUMMARY:Just Sweat
END:VEVENT
END:VCALENDAR
