BEGIN:VCALENDAR
VERSION:2.0
PRODID:-//Squarespace Inc/Squarespace 6//v6//EN
BEGIN:VEVENT
UID:58645e1ee4fcb5bb149fbad5@squarespace.com
DTSTAMP:20161229T010639Z
DTSTART:20170227T043000Z
DTEND:20170227T051500Z
SUMMARY:Just Sweat
END:VEVENT
END:VCALENDAR
