BEGIN:VCALENDAR
VERSION:2.0
PRODID:-//Squarespace Inc/Squarespace 6//v6//EN
BEGIN:VEVENT
UID:5864627e725e257cee28b20c@squarespace.com
DTSTAMP:20170107T232939Z
DTSTART:20170224T200000Z
DTEND:20170224T204500Z
SUMMARY:Just Sweat
END:VEVENT
END:VCALENDAR
