BEGIN:VCALENDAR
VERSION:2.0
PRODID:-//Squarespace Inc/Squarespace 6//v6//EN
BEGIN:VEVENT
UID:58648730e58c62bfbb513657@squarespace.com
DTSTAMP:20161229T034713Z
DTSTART:20170223T231500Z
DTEND:20170223T234500Z
SUMMARY:Xpress Fit
END:VEVENT
END:VCALENDAR
