BEGIN:VCALENDAR
VERSION:2.0
PRODID:-//Squarespace Inc/Squarespace 6//v6//EN
BEGIN:VEVENT
UID:586457b39f74562190f9c047@squarespace.com
DTSTAMP:20161229T002444Z
DTSTART:20170223T201500Z
DTEND:20170223T210000Z
SUMMARY:Just Sweat
END:VEVENT
END:VCALENDAR
