BEGIN:VCALENDAR
VERSION:2.0
PRODID:-//Squarespace Inc/Squarespace 6//v6//EN
BEGIN:VEVENT
UID:5864615e579fb3e0e88cacc0@squarespace.com
DTSTAMP:20161229T010709Z
DTSTART:20170224T043000Z
DTEND:20170224T051500Z
SUMMARY:Just Sweat
END:VEVENT
END:VCALENDAR
