BEGIN:VCALENDAR
VERSION:2.0
PRODID:-//Squarespace Inc/Squarespace 6//v6//EN
BEGIN:VEVENT
UID:586486303e00becc5674f700@squarespace.com
DTSTAMP:20161229T034307Z
DTSTART:20170221T231500Z
DTEND:20170221T234500Z
SUMMARY:Xpress Fit
END:VEVENT
END:VCALENDAR
