BEGIN:VCALENDAR
VERSION:2.0
PRODID:-//Squarespace Inc/Squarespace 6//v6//EN
BEGIN:VEVENT
UID:586456696b8f5bbf07db34da@squarespace.com
DTSTAMP:20161229T001951Z
DTSTART:20170221T201500Z
DTEND:20170221T210000Z
SUMMARY:Just Sweat
END:VEVENT
END:VCALENDAR
