BEGIN:VCALENDAR
VERSION:2.0
PRODID:-//Squarespace Inc/Squarespace 6//v6//EN
BEGIN:VEVENT
UID:58645f49c534a5769d5da31b@squarespace.com
DTSTAMP:20161229T005657Z
DTSTART:20170222T043000Z
DTEND:20170222T051500Z
SUMMARY:Just Sweat
END:VEVENT
END:VCALENDAR
