BEGIN:VCALENDAR
VERSION:2.0
PRODID:-//Squarespace Inc/Squarespace 6//v6//EN
BEGIN:VEVENT
UID:586464d8e58c62bfbb4facbe@squarespace.com
DTSTAMP:20161229T012047Z
DTSTART:20170219T231500Z
DTEND:20170219T234500Z
SUMMARY:Xpress Fit
END:VEVENT
END:VCALENDAR
