BEGIN:VCALENDAR
VERSION:2.0
PRODID:-//Squarespace Inc/Squarespace 6//v6//EN
BEGIN:VEVENT
UID:586488d103596e6755505061@squarespace.com
DTSTAMP:20170108T015331Z
DTSTART:20170222T033000Z
DTEND:20170222T041500Z
SUMMARY:Teen Fit
END:VEVENT
END:VCALENDAR
