BEGIN:VCALENDAR
VERSION:2.0
PRODID:-//Squarespace Inc/Squarespace 6//v6//EN
BEGIN:VEVENT
UID:58645518b3db2bba377c55a0@squarespace.com
DTSTAMP:20161229T001336Z
DTSTART:20170219T201500Z
DTEND:20170219T210000Z
SUMMARY:Just Sweat
END:VEVENT
END:VCALENDAR
