BEGIN:VCALENDAR
VERSION:2.0
PRODID:-//Squarespace Inc/Squarespace 6//v6//EN
BEGIN:VEVENT
UID:58645e0220099e2bc41f1b00@squarespace.com
DTSTAMP:20161229T005130Z
DTSTART:20170220T043000Z
DTEND:20170220T051500Z
SUMMARY:Just Sweat
END:VEVENT
END:VCALENDAR
