BEGIN:VCALENDAR
VERSION:2.0
PRODID:-//Squarespace Inc/Squarespace 6//v6//EN
BEGIN:VEVENT
UID:5864626837c58187117e0273@squarespace.com
DTSTAMP:20170107T232825Z
DTSTART:20170217T200000Z
DTEND:20170217T204500Z
SUMMARY:Just Sweat
END:VEVENT
END:VCALENDAR
