BEGIN:VCALENDAR
VERSION:2.0
PRODID:-//Squarespace Inc/Squarespace 6//v6//EN
BEGIN:VEVENT
UID:5864601329687fc89ec17f61@squarespace.com
DTSTAMP:20161229T010021Z
DTSTART:20170217T043000Z
DTEND:20170217T051500Z
SUMMARY:Just Sweat
END:VEVENT
END:VCALENDAR
