BEGIN:VCALENDAR
VERSION:2.0
PRODID:-//Squarespace Inc/Squarespace 6//v6//EN
BEGIN:VEVENT
UID:58644f9c893fc03fc32abc3c@squarespace.com
DTSTAMP:20161229T000111Z
DTSTART:20170108T201500Z
DTEND:20170108T210000Z
SUMMARY:Just Sweat
END:VEVENT
END:VCALENDAR
